Workbook
Name Excel_BuiltIn_Print_Area_1: #REF!

Sheet LIDER
A1: Общество с ограниченной ответственностью
C5: Цены на | D5: =[1]АВТО!H5 -> 42129
C6: Аерозольні фарби LIDER
A7: № | B7: Назва кольору | C7: Об'єм, мл | D7: Ціна, грн
A9: УНІВЕРСАЛЬНІ ЕМАЛІ
A10: 1 | B10: 1001 Бежева | C10: 400 мл | D10: =CEILING([1]liderВх.!H9*1.5,0.06) -> 44.82
A11: 2 | B11: 1015 Слонова кістка | C11: 400 мл | D11: =CEILING([1]liderВх.!H10*1.5,0.06) -> 44.82
A12: 3 | B12: 1023 Жовта | C12: 400 мл | D12: =CEILING([1]liderВх.!H11*1.5,0.06) -> 44.82
A13: 4 | B13: 1036 Темне золото | C13: 400 мл | D13: =CEILING([1]liderВх.!H12*1.5,0.06) -> 44.82
A14: 5 | B14: 2004 Помаранчева | C14: 400 мл | D14: =CEILING([1]liderВх.!H13*1.5,0.06) -> 44.82
A15: 6 | B15: 3002 Темно-червона | C15: 400 мл | D15: =CEILING([1]liderВх.!H14*1.5,0.06) -> 44.82
A16: 7 | B16: 3005 Темна вишня | C16: 400 мл | D16: =CEILING([1]liderВх.!H15*1.5,0.06) -> 44.82
A17: 8 | B17: 3011 Вишнева | C17: 400 мл | D17: =CEILING([1]liderВх.!H16*1.5,0.06) -> 44.82
A18: 9 | B18: 3020 Червона | C18: 400 мл | D18: =CEILING([1]liderВх.!H17*1.5,0.06) -> 44.82
A19: 10 | B19: 5002 Синя | C19: 400 мл | D19: =CEILING([1]liderВх.!H18*1.5,0.06) -> 44.82
A20: 11 | B20: 5010 Світло синя | C20: 400 мл | D20: =CEILING([1]liderВх.!H19*1.5,0.06) -> 44.82
A21: 12 | B21: 5015 Блакитна | C21: 400 мл | D21: =CEILING([1]liderВх.!H20*1.5,0.06) -> 44.82
... A36: 27 | B36: 9010 Біла | C36: 400 мл | D36: =CEILING([1]liderВх.!H35*1.5,0.06) -> 44.82
A37: УНІВЕРСАЛЬНИЙ ҐРУНТ
A38: 28 | B38: Сірий,Червоний,Білий | C38: 400 мл | D38: =CEILING([1]liderВх.!H37*1.5,0.06) -> 44.82
A39: УНІВЕРСАЛЬНИЙ ЛАК
A40: 29 | B40: Лак ґлянсовий, матовий | C40: 400 мл | D40: =CEILING([1]liderВх.!H39*1.5,0.06) -> 44.82
A41: ЖАРОСТІЙКІ ЕМАЛІ
A42: 30 | B42: Черна | C42: 400 мл | D42: =CEILING([1]liderВх.!H41*1.5,0.06) -> 75.72
A43: 31 | B43: Біла | C43: 400 мл | D43: =CEILING([1]liderВх.!H42*1.5,0.06) -> 75.72
A44: 32 | B44: Срібляста | C44: 400 мл | D44: =CEILING([1]liderВх.!H43*1.5,0.06) -> 75.72
A45: ЕМАЛЬ ДЛЯ КЕРАМІКИ
A46: 33 | B46: Біла | C46: 400 мл | D46: =CEILING([1]liderВх.!H45*1.5,0.06) -> 64.02
A47: ЕМАЛЬ "ХРОМ"
A48: 34 | B48: Срібляста, Золотиста | C48: 400 мл | D48: =CEILING([1]liderВх.!H47*1.5,0.06) -> 69.42
B50: Автохимия и автокосметика PITON
A52: Полировочные пасты PITON !!! НОВИНКА !!!
A53: № | B53: Название | C53: Объем, мл | D53: Количество в упаковке, шт | E53: цена без НДС,грн | F53: цена с НДС,грн
B54: эффективное для незначительных дефектов
A55: 1 | B55: Полировочное молочко PITON G10 | C55: 100 мл | D55: 21 | E55: =CEILING([1]liderВх.!J55*1.35,0.06) -> 100.08 | F55: =CEILING([1]liderВх.!K55*1.35,0.06) -> 120.12
B56: универсальное использование
A57: 2. | B57: Полировочная паста PITON G3 | C57: 100 мл | D57: 21 | E57: =CEILING([1]liderВх.!J57*1.35,0.06) -> 48.84 | F57: =CEILING([1]liderВх.!K57*1.35,0.06) -> 58.62
B58: идеальна для затвердевших поверхностей
A59: 3. | B59: Полировочная паста PITON G6 | C59: 100 мл | D59: 21 | E59: =CEILING([1]liderВх.!J59*1.35,0.06) -> 67.68 | F59: =CEILING([1]liderВх.!K59*1.35,0.06) -> 81.18
A61: Битумная мастика PITON !!! НОВИНКА !!!
B62: с антикоррозийной защитой
A63: 1 | B63: Битумная мастика PITON | C63: 500 мл | D63: 6 | E63: =CEILING([1]liderВх.!J63*1.35,0.06) -> 58.68 | F63: =CEILING([1]liderВх.!K63*1.35,0.06) -> 70.44
A65: Универсальная смазка PITON !!! НОВИНКА !!!
B66: с преобразователем ржавчины
A67: № | B67: Название | C67: Объем, мл | D67: Количество в упаковке, шт | E67: цена без НДС,грн | F67: цена с НДС,грн
A68: 1 | B68: Универсальная смазка PITON | C68: 150 мл | D68: 20 | E68: =CEILING([1]liderВх.!J68*1.35,0.06) -> 24.78 | F68: =CEILING([1]liderВх.!K68*1.35,0.06) -> 29.7
A69: 2 | B69: Универсальная смазка PITON | C69: 400 мл | D69: 12 | E69: =CEILING([1]liderВх.!J69*1.35,0.06) -> 46.38 | F69: =CEILING([1]liderВх.!K69*1.35,0.06) -> 55.62
A71: Смазка PITON !!! НОВИНКА !!!
A72: 1 | B72: Смазка для цепей | C72: 400 мл | D72: 12 | E72: =CEILING([1]liderВх.!J72*1.35,0.06) -> 70.5 | F72: =CEILING([1]liderВх.!K72*1.35,0.06) -> 84.54
A74: Очиститель PITON !!! НОВИНКА !!!
A75: 1 | B75: Очиститель тормозных колодок | C75: 400 мл | D75: 12 | E75: =CEILING([1]liderВх.!J75*1.35,0.06) -> 47.28 | F75: =CEILING([1]liderВх.!K75*1.35,0.06) -> 56.7
A76: 2 | B76: Очиститель двигателя | C76: 400 мл | D76: 12 | E76: =CEILING([1]liderВх.!J76*1.35,0.06) -> 61.44 | F76: =CEILING([1]liderВх.!K76*1.35,0.06) -> 73.74
A77: 3 | B77: Очиститель шин | C77: 400 мл | D77: 12 | E77: =CEILING([1]liderВх.!J77*1.35,0.06) -> 59.64 | F77: =CEILING([1]liderВх.!K77*1.35,0.06) -> 71.52
A79: Очиститель битумных пятен PITON !!! НОВИНКА !!!
B80: безопасен для лакокрасочного покрытия авто
A81: 1 | B81: Очиститель битумных пятен PITON | C81: 400 мл | D81: 12 | E81: =CEILING([1]liderВх.!J81*1.35,0.06) -> 43.32 | F81: =CEILING([1]liderВх.!K81*1.35,0.06) -> 51.96
A83: Очиститель карбюратора PITON !!! НОВИНКА !!!
B84: с мощным впрыском
A85: 1 | B85: Очиститель карбюратора PITON | C85: 400 мл | D85: 12 | E85: =CEILING([1]liderВх.!J85*1.35,0.06) -> 67.38 | F85: =CEILING([1]liderВх.!K85*1.35,0.06) -> 80.88
A87: Очиститель салона PITON !!! НОВИНКА !!!
B88: с пятновыводителем
A89: 1 | B89: Очиститель салона PITON (пенный) | C89: 500 мл | D89: 6 | E89: =CEILING([1]liderВх.!J89*1.35,0.06) -> 55.62 | F89: =CEILING([1]liderВх.!K89*1.35,0.06) -> 66.72
A91: Универсальный обезжириватель PITON !!! НОВИНКА !!!
B92: безопасен для любых поверхностей
A93: 1 | B93: Универсальный обезжириватель PITON | C93: 300 мл | D93: 20 | E93: =CEILING([1]liderВх.!J93*1.35,0.06) -> 40.14 | F93: =CEILING([1]liderВх.!K93*1.35,0.06) -> 48.18
A95: Засіб для запуску двигунів при низьких температурах PITON !!! НОВИНКА !!!
A96: 1 | B96: Засіб для запуску двигунів при низьких температурах PITON | C96: 400 мл | D96: 12 | E96: =CEILING([1]liderВх.!J96*1.35,0.06) -> 73.5 | F96: =CEILING([1]liderВх.!K96*1.35,0.06) -> 88.2
A98: Розморожувач замків та скла PITON !!! НОВИНКА !!!
A99: 1 | B99: Розморожувач замків та скла PITON | C99: 400 мл | D99: 12 | E99: =CEILING([1]liderВх.!J99*1.35,0.06) -> 62.4 | F99: =CEILING([1]liderВх.!K99*1.35,0.06) -> 74.88
A101: Полироль для «торпедо» PITON
B102: с натуральными ароматами
A103: 1 | B103: Зеленое яблоко | C103: 320 мл | D103: 20 | E103: =CEILING([1]liderВх.!J103*1.35,0.06) -> 31.8 | F103: =CEILING([1]liderВх.!K103*1.35,0.06) -> 38.16
A104: 2 | B104: Клубника со сливками | C104: 320 мл | D104: 20 | E104: =CEILING([1]liderВх.!J104*1.35,0.06) -> 31.8 | F104: =CEILING([1]liderВх.!K104*1.35,0.06) -> 38.16
A105: 3 | B105: Сладкая ваниль | C105: 320 мл | D105: 20 | E105: =CEILING([1]liderВх.!J105*1.35,0.06) -> 31.8 | F105: =CEILING([1]liderВх.!K105*1.35,0.06) -> 38.16
A106: 4 | B106: Весенние цветы | C106: 320 мл | D106: 20 | E106: =CEILING([1]liderВх.!J106*1.35,0.06) -> 31.8 | F106: =CEILING([1]liderВх.!K106*1.35,0.06) -> 38.16
A107: 5 | B107: Тропический лайм | C107: 320 мл | D107: 20 | E107: =CEILING([1]liderВх.!J107*1.35,0.06) -> 31.8 | F107: =CEILING([1]liderВх.!K107*1.35,0.06) -> 38.16
A108: 6 | B108: Бархатный персик | C108: 320 мл | D108: 20 | E108: =CEILING([1]liderВх.!J108*1.35,0.06) -> 31.8 | F108: =CEILING([1]liderВх.!K108*1.35,0.06) -> 38.16
A109: 7 | B109: Нежная лилия | C109: 320 мл | D109: 20 | E109: =CEILING([1]liderВх.!J109*1.35,0.06) -> 31.8 | F109: =CEILING([1]liderВх.!K109*1.35,0.06) -> 38.16
A110: 8 | B110: Нова машина | C110: 320 мл | D110: 20 | E110: =CEILING([1]liderВх.!J110*1.35,0.06) -> 31.8 | F110: =CEILING([1]liderВх.!K110*1.35,0.06) -> 38.16
A111: 9 | B111: Апельсин | C111: 320 мл | D111: 20 | E111: =CEILING([1]liderВх.!J111*1.35,0.06) -> 31.8 | F111: =CEILING([1]liderВх.!K111*1.35,0.06) -> 38.16
A112: 10 | B112: Комфорт | C112: 320 мл | D112: 20 | E112: =CEILING([1]liderВх.!J112*1.35,0.06) -> 31.8 | F112: =CEILING([1]liderВх.!K112*1.35,0.06) -> 38.16
A113: 11 | B113: М'ята | C113: 320 мл | D113: 20 | E113: =CEILING([1]liderВх.!J113*1.35,0.06) -> 31.8 | F113: =CEILING([1]liderВх.!K113*1.35,0.06) -> 38.16
A115: 1 | B115: Зеленое яблоко | C115: 500 мл | D115: 12 | E115: =CEILING([1]liderВх.!J115*1.35,0.06) -> 40.14 | F115: =CEILING([1]liderВх.!K115*1.35,0.06) -> 48.18
... A125: 11 | B125: М'ята | C125: 500 мл | D125: 12 | E125: =CEILING([1]liderВх.!J125*1.35,0.06) -> 40.14 | F125: =CEILING([1]liderВх.!K125*1.35,0.06) -> 48.18
A127: Мовиль PITON с натуральным воском (автоконсервант закрытых профилей)
B128: 5-ти ступенчатая система защиты металла от коррозии
B129: 2 распылителя в комплекте
A130: 1 | B130: Мовиль PITON с натуральным воском | C130: 500 мл | D130: 6 | E130: =CEILING([1]liderВх.!J130*1.35,0.06) -> 67.98 | F130: =CEILING([1]liderВх.!K130*1.35,0.06) -> 81.54
A131: 2 | B131: Мовиль PITON с натуральным воском | C131: 750 мл | D131: 6 | E131: =CEILING([1]liderВх.!J131*1.35,0.06) -> 86.52 | F131: =CEILING([1]liderВх.!K131*1.35,0.06) -> 103.8
A133: Антигравий PITON с высокополимерным каучуком
B134: пригодный для дальнейшей покраски
B135: дополнительная защита от коррозии
A136: 1 | B136: Антигравий PITON с высокополимерным каучуком (серый, черный) | C136: 500 мл | D136: 6 | E136: =CEILING([1]liderВх.!J136*1.35,0.06) -> 66.48 | F136: =CEILING([1]liderВх.!K136*1.35,0.06) -> 79.74
A139: Cиликоновая смазка PITON
B140: экологически чистая
A141: 1 | B141: Универсальная силиконовая смазка PITON | C141: 320 мл | D141: 20 | E141: =CEILING([1]liderВх.!J141*1.35,0.06) -> 40.14 | F141: =CEILING([1]liderВх.!K141*1.35,0.06) -> 48.18
A142: 2 | B142: Универсальная силиконовая смазка PITON | C142: 150 мл | D142: 20 | E142: =CEILING([1]liderВх.!J142*1.35,0.06) -> 24.78 | F142: =CEILING([1]liderВх.!K142*1.35,0.06) -> 29.7

Sheet Лист1

Sheet Лист2

Sheet Лист3
