Workbook
Name Excel_BuiltIn_Print_Area_1: #REF!

Sheet LIDER
A1: Общество с ограниченной ответственностью
C5: Цены на | D5: =[1]АВТО!H5 -> 42129
C6: Аерозольні фарби LIDER
A7: № | B7: Назва кольору | C7: Об'єм, мл | D7: Ціна, грн
A9: УНІВЕРСАЛЬНІ ЕМАЛІ
A10: 1 | B10: 1001 Бежева | C10: 400 мл | D10: =CEILING([1]liderВх.!H9*1.5,0.06) -> 44.82
A11: 2 | B11: 1015 Слонова кістка | C11: 400 мл | D11: =CEILING([1]liderВх.!H10*1.5,0.06) -> 44.82
A12: 3 | B12: 1023 Жовта | C12: 400 мл | D12: =CEILING([1]liderВх.!H11*1.5,0.06) -> 44.82
A13: 4 | B13: 1036 Темне золото | C13: 400 мл | D13: =CEILING([1]liderВх.!H12*1.5,0.06) -> 44.82
A14: 5 | B14: 2004 Помаранчева | C14: 400 мл | D14: =CEILING([1]liderВх.!H13*1.5,0.06) -> 44.82
A15: 6 | B15: 3002 Темно-червона | C15: 400 мл | D15: =CEILING([1]liderВх.!H14*1.5,0.06) -> 44.82
A16: 7 | B16: 3005 Темна вишня | C16: 400 мл | D16: =CEILING([1]liderВх.!H15*1.5,0.06) -> 44.82
A17: 8 | B17: 3011 Вишнева | C17: 400 мл | D17: =CEILING([1]liderВх.!H16*1.5,0.06) -> 44.82
A18: 9 | B18: 3020 Червона | C18: 400 мл | D18: =CEILING([1]liderВх.!H17*1.5,0.06) -> 44.82
A19: 10 | B19: 5002 Синя | C19: 400 мл | D19: =CEILING([1]liderВх.!H18*1.5,0.06) -> 44.82
A20: 11 | B20: 5010 Світло синя | C20: 400 мл | D20: =CEILING([1]liderВх.!H19*1.5,0.06) -> 44.82
A21: 12 | B21: 5015 Блакитна | C21: 400 мл | D21: =CEILING([1]liderВх.!H20*1.5,0.06) -> 44.82
... A36: 27 | B36: 9010 Біла | C36: 400 мл | D36: =CEILING([1]liderВх.!H35*1.5,0.06) -> 44.82
A37: УНІВЕРСАЛЬНИЙ ҐРУНТ
A38: 28 | B38: Сірий,Червоний,Білий | C38: 400 мл | D38: =CEILING([1]liderВх.!H37*1.5,0.06) -> 44.82
A39: УНІВЕРСАЛЬНИЙ ЛАК
A40: 29 | B40: Лак ґлянсовий, матовий | C40: 400 мл | D40: =CEILING([1]liderВх.!H39*1.5,0.06) -> 44.82
A41: ЖАРОСТІЙКІ ЕМАЛІ
A42: 30 | B42: Черна | C42: 400 мл | D42: =CEILING([1]liderВх.!H41*1.5,0.06) -> 75.72
A43: 31 | B43: Біла | C43: 400 мл | D43: =CEILING([1]liderВх.!H42*1.5,0.06) -> 75.72
A44: 32 | B44: Срібляста | C44: 400 мл | D44: =CEILING([1]liderВх.!H43*1.5,0.06) -> 75.72
A45: ЕМАЛЬ ДЛЯ КЕРАМІКИ
A46: 33 | B46: Біла | C46: 400 мл | D46: =CEILING([1]liderВх.!H45*1.5,0.06) -> 64.02
A47: ЕМАЛЬ "ХРОМ"
A48: 34 | B48: Срібляста, Золотиста | C48: 400 мл | D48: =CEILING([1]liderВх.!H47*1.5,0.06) -> 69.42
B50: Автохимия и автокосметика PITON
A52: Полировочные пасты PITON !!! НОВИНКА !!!
A53: № | B53: Название | C53: Объем, мл | D53: Количество в упаковке, шт | E53: цена без НДС,грн | F53: цена с НДС,грн
B54: эффективное для незначительных дефектов
A55: 1 | B55: Полировочное молочко PITON G10 | C55: 100 мл | D55: 21 | E55: =CEILING([1]liderВх.!J55*1.35,0.06) -> 100.08 | F55: =CEILING([1]liderВх.!K55*1.35,0.06) -> 120.12
B56: универсальное использование
A57: 2. | B57: Полировочная паста PITON G3 | C57: 100 мл | D57: 21 | E57: =CEILING([1]liderВх.!J57*1.35,0.06) -> 48.84 | F57: =CEILING([1]liderВх.!K57*1.35,0.06) -> 58.62
B58: идеальна для затвердевших поверхностей
A59: 3. | B59: Полировочная паста PITON G6 | C59: 100 мл | D59: 21 | E59: =CEILING([1]liderВх.!J59*1.35,0.06) -> 67.68 | F59: =CEILING([1]liderВх.!K59*1.35,0.06) -> 81.18
A61: Битумная мастика PITON !!! НОВИНКА !!!
...

Sheet Лист1

Sheet Лист2

Sheet Лист3
